Package: metaMS Version: 1.45.0 Command: F:\biocbuild\bbs-3.22-bioc\R\bin\R.exe CMD INSTALL metaMS StartedAt: 2025-07-22 16:36:04 -0400 (Tue, 22 Jul 2025) EndedAt: 2025-07-22 16:37:10 -0400 (Tue, 22 Jul 2025) EllapsedTime: 66.2 seconds RetCode: 0 Status: OK