Package: metaMS Version: 1.45.0 Command: rm -rf metaMS.buildbin-libdir && mkdir metaMS.buildbin-libdir && F:\biocbuild\bbs-3.22-bioc\R\bin\R.exe CMD INSTALL --build --library=metaMS.buildbin-libdir metaMS_1.45.0.tar.gz StartedAt: 2025-07-23 09:30:55 -0400 (Wed, 23 Jul 2025) EndedAt: 2025-07-23 09:31:59 -0400 (Wed, 23 Jul 2025) EllapsedTime: 63.8 seconds RetCode: 0 Status: OK PackageFile: metaMS_1.45.0.zip PackageFileSize: 4.033 MiB