Package: metaMS Version: 1.45.0 Command: /Library/Frameworks/R.framework/Resources/bin/R CMD check --install=check:metaMS.install-out.txt --library=/Library/Frameworks/R.framework/Resources/library --no-vignettes --timings metaMS_1.45.0.tar.gz StartedAt: 2025-07-11 21:47:28 -0400 (Fri, 11 Jul 2025) EndedAt: 2025-07-11 21:53:54 -0400 (Fri, 11 Jul 2025) EllapsedTime: 386.3 seconds RetCode: 0 Status: OK CheckDir: metaMS.Rcheck Warnings: 0