Package: metaMS Version: 1.45.0 Command: /Library/Frameworks/R.framework/Resources/bin/R CMD INSTALL metaMS StartedAt: 2025-07-14 15:23:57 -0400 (Mon, 14 Jul 2025) EndedAt: 2025-07-14 15:24:15 -0400 (Mon, 14 Jul 2025) EllapsedTime: 18.7 seconds RetCode: 0 Status: OK