Package: metaMS Version: 1.45.0 Command: /Library/Frameworks/R.framework/Resources/bin/R CMD build --keep-empty-dirs --no-resave-data metaMS StartedAt: 2025-07-14 16:49:47 -0400 (Mon, 14 Jul 2025) EndedAt: 2025-07-14 16:50:19 -0400 (Mon, 14 Jul 2025) EllapsedTime: 31.4 seconds RetCode: 0 Status: OK PackageFile: metaMS_1.45.0.tar.gz PackageFileSize: 3.818 MiB