Package: metaMS Version: 1.45.0 Command: rm -rf metaMS.buildbin-libdir && mkdir metaMS.buildbin-libdir && /Users/biocbuild/BBS/utils/build-universal.sh metaMS_1.45.0.tar.gz /Library/Frameworks/R.framework/Resources/bin/R metaMS.buildbin-libdir StartedAt: 2025-07-14 22:24:50 -0400 (Mon, 14 Jul 2025) EndedAt: 2025-07-14 22:25:11 -0400 (Mon, 14 Jul 2025) EllapsedTime: 20.3 seconds RetCode: 0 Status: OK PackageFile: metaMS_1.45.0.tgz PackageFileSize: 4.296 MiB