Package: metaCCA Version: 1.37.0 Command: /home/biocbuild/R/R/bin/R CMD check --install=check:metaCCA.install-out.txt --library=/home/biocbuild/R/R/site-library --no-vignettes --timings metaCCA_1.37.0.tar.gz StartedAt: 2025-07-04 08:44:55 -0000 (Fri, 04 Jul 2025) EndedAt: 2025-07-04 08:45:13 -0000 (Fri, 04 Jul 2025) EllapsedTime: 18.0 seconds RetCode: 0 Status: WARNINGS CheckDir: metaCCA.Rcheck Warnings: 1