Package: metaCCA Version: 1.37.0 Command: F:\biocbuild\bbs-3.22-bioc\R\bin\R.exe CMD INSTALL metaCCA StartedAt: 2025-07-20 16:31:25 -0400 (Sun, 20 Jul 2025) EndedAt: 2025-07-20 16:31:39 -0400 (Sun, 20 Jul 2025) EllapsedTime: 14.7 seconds RetCode: 0 Status: OK