Package: messina Version: 1.45.0 Command: /home/biocbuild/R/R/bin/R CMD build --keep-empty-dirs --no-resave-data messina StartedAt: 2025-07-15 00:48:38 -0000 (Tue, 15 Jul 2025) EndedAt: 2025-07-15 00:50:29 -0000 (Tue, 15 Jul 2025) EllapsedTime: 111.1 seconds RetCode: 0 Status: OK PackageFile: messina_1.45.0.tar.gz PackageFileSize: 290.9 KiB