Package: messina Version: 1.45.0 Command: rm -rf messina.buildbin-libdir && mkdir messina.buildbin-libdir && /Users/biocbuild/BBS/utils/build-universal.sh messina_1.45.0.tar.gz /Library/Frameworks/R.framework/Resources/bin/R messina.buildbin-libdir StartedAt: 2025-07-13 22:22:36 -0400 (Sun, 13 Jul 2025) EndedAt: 2025-07-13 22:22:44 -0400 (Sun, 13 Jul 2025) EllapsedTime: 8.1 seconds RetCode: 0 Status: OK PackageFile: messina_1.45.0.tgz PackageFileSize: 535 KiB