Package: memes Version: 1.17.1 Command: /home/biocbuild/R/R/bin/R CMD INSTALL memes StartedAt: 2025-07-07 20:31:06 -0000 (Mon, 07 Jul 2025) EndedAt: 2025-07-07 20:31:24 -0000 (Mon, 07 Jul 2025) EllapsedTime: 17.9 seconds RetCode: 0 Status: OK