Package: memes Version: 1.17.1 Command: /home/biocbuild/R/R/bin/R CMD check --install=check:memes.install-out.txt --library=/home/biocbuild/R/R/site-library --no-vignettes --timings memes_1.17.1.tar.gz StartedAt: 2025-07-08 08:16:36 -0000 (Tue, 08 Jul 2025) EndedAt: 2025-07-08 08:19:13 -0000 (Tue, 08 Jul 2025) EllapsedTime: 157.2 seconds RetCode: 1 Status: ERROR CheckDir: memes.Rcheck Warnings: NA