Package: memes Version: 1.17.1 Command: /home/biocbuild/R/R/bin/R CMD build --keep-empty-dirs --no-resave-data memes StartedAt: 2025-07-08 00:36:34 -0000 (Tue, 08 Jul 2025) EndedAt: 2025-07-08 00:37:43 -0000 (Tue, 08 Jul 2025) EllapsedTime: 69.0 seconds RetCode: 0 Status: OK PackageFile: memes_1.17.1.tar.gz PackageFileSize: 1.019 MiB