Package: memes Version: 1.17.1 Command: F:\biocbuild\bbs-3.22-bioc\R\bin\R.exe CMD check --no-multiarch --install=check:memes.install-out.txt --library=F:\biocbuild\bbs-3.22-bioc\R\library --no-vignettes --timings memes_1.17.1.tar.gz StartedAt: 2025-07-12 03:34:39 -0400 (Sat, 12 Jul 2025) EndedAt: 2025-07-12 03:37:18 -0400 (Sat, 12 Jul 2025) EllapsedTime: 158.6 seconds RetCode: 0 Status: WARNINGS CheckDir: memes.Rcheck Warnings: 1