Package: memes Version: 1.17.1 Command: chmod a+r memes -R && F:\biocbuild\bbs-3.22-bioc\R\bin\R.exe CMD build --keep-empty-dirs --no-resave-data memes StartedAt: 2025-07-07 20:08:23 -0400 (Mon, 07 Jul 2025) EndedAt: 2025-07-07 20:10:23 -0400 (Mon, 07 Jul 2025) EllapsedTime: 120.1 seconds RetCode: 0 Status: OK PackageFile: memes_1.17.1.tar.gz PackageFileSize: 1.009 MiB