Package: memes Version: 1.17.1 Command: rm -rf memes.buildbin-libdir && mkdir memes.buildbin-libdir && F:\biocbuild\bbs-3.22-bioc\R\bin\R.exe CMD INSTALL --build --library=memes.buildbin-libdir memes_1.17.1.tar.gz StartedAt: 2025-07-08 09:17:34 -0400 (Tue, 08 Jul 2025) EndedAt: 2025-07-08 09:18:21 -0400 (Tue, 08 Jul 2025) EllapsedTime: 46.9 seconds RetCode: 0 Status: OK PackageFile: memes_1.17.1.zip PackageFileSize: 1.128 MiB