############################################################################## ############################################################################## ### ### Running command: ### ### rm -rf memes.buildbin-libdir && mkdir memes.buildbin-libdir && F:\biocbuild\bbs-3.22-bioc\R\bin\R.exe CMD INSTALL --build --library=memes.buildbin-libdir memes_1.17.1.tar.gz ### ############################################################################## ############################################################################## * installing *source* package 'memes' ... ** this is package 'memes' version '1.17.1' ** using staged installation ** R ** data *** moving datasets to lazyload DB ** inst ** byte-compile and prepare package for lazy loading ** help *** installing help indices *** copying figures ** building package indices ** installing vignettes ** testing if installed package can be loaded from temporary location ** testing if installed package can be loaded from final location ** testing if installed package keeps a record of temporary installation path * MD5 sums packaged installation of 'memes' as memes_1.17.1.zip * DONE (memes)