Package: memes Version: 1.17.1 Command: /home/biocbuild/bbs-3.22-bioc/R/bin/R CMD build --keep-empty-dirs --no-resave-data --md5 memes StartedAt: 2025-07-16 18:08:42 -0400 (Wed, 16 Jul 2025) EndedAt: 2025-07-16 18:09:34 -0400 (Wed, 16 Jul 2025) EllapsedTime: 52.0 seconds RetCode: 0 Status: OK PackageFile: memes_1.17.1.tar.gz PackageFileSize: 1.048 MiB