Package: memes Version: 1.17.1 Command: /Library/Frameworks/R.framework/Resources/bin/R CMD INSTALL memes StartedAt: 2025-07-07 15:23:39 -0400 (Mon, 07 Jul 2025) EndedAt: 2025-07-07 15:23:59 -0400 (Mon, 07 Jul 2025) EllapsedTime: 19.6 seconds RetCode: 0 Status: OK