Package: memes Version: 1.17.1 Command: /Library/Frameworks/R.framework/Resources/bin/R CMD check --install=check:memes.install-out.txt --library=/Library/Frameworks/R.framework/Resources/library --no-vignettes --timings memes_1.17.1.tar.gz StartedAt: 2025-07-09 22:03:39 -0400 (Wed, 09 Jul 2025) EndedAt: 2025-07-09 22:06:27 -0400 (Wed, 09 Jul 2025) EllapsedTime: 167.4 seconds RetCode: 0 Status: WARNINGS CheckDir: memes.Rcheck Warnings: 1