Package: memes Version: 1.17.1 Maintainer: Spencer Nystrom MaintainerEmail: nystromdev at gmail.com git_url: https://git.bioconductor.org/packages/memes git_branch: devel git_last_commit: fd824f8 git_last_commit_date: 2025-06-13 19:12:09 -0400 (Fri, 13 Jun 2025)