Package: megadepth Version: 1.19.0 Command: /Library/Frameworks/R.framework/Resources/bin/R CMD build --keep-empty-dirs --no-resave-data megadepth StartedAt: 2025-07-21 16:48:13 -0400 (Mon, 21 Jul 2025) EndedAt: 2025-07-21 16:48:30 -0400 (Mon, 21 Jul 2025) EllapsedTime: 17.2 seconds RetCode: 0 Status: OK PackageFile: megadepth_1.19.0.tar.gz PackageFileSize: 466 KiB