Package: mdqc Version: 1.71.0 Command: F:\biocbuild\bbs-3.22-bioc\R\bin\R.exe CMD check --no-multiarch --install=check:mdqc.install-out.txt --library=F:\biocbuild\bbs-3.22-bioc\R\library --no-vignettes --timings mdqc_1.71.0.tar.gz StartedAt: 2025-07-22 03:45:07 -0400 (Tue, 22 Jul 2025) EndedAt: 2025-07-22 03:45:38 -0400 (Tue, 22 Jul 2025) EllapsedTime: 31.0 seconds RetCode: 0 Status: OK CheckDir: mdqc.Rcheck Warnings: 0