Package: mdqc Version: 1.71.0 Command: /Library/Frameworks/R.framework/Resources/bin/R CMD INSTALL mdqc StartedAt: 2025-07-01 15:17:41 -0400 (Tue, 01 Jul 2025) EndedAt: 2025-07-01 15:18:20 -0400 (Tue, 01 Jul 2025) EllapsedTime: 39.1 seconds RetCode: 0 Status: OK