Package: mdqc Version: 1.71.0 Command: /Library/Frameworks/R.framework/Resources/bin/R CMD check --install=check:mdqc.install-out.txt --library=/Library/Frameworks/R.framework/Resources/library --no-vignettes --timings mdqc_1.71.0.tar.gz StartedAt: 2025-07-07 21:40:13 -0400 (Mon, 07 Jul 2025) EndedAt: 2025-07-07 21:40:44 -0400 (Mon, 07 Jul 2025) EllapsedTime: 30.9 seconds RetCode: 0 Status: OK CheckDir: mdqc.Rcheck Warnings: 0