Package: mdqc Version: 1.71.0 Command: rm -rf mdqc.buildbin-libdir && mkdir mdqc.buildbin-libdir && /Users/biocbuild/BBS/utils/build-universal.sh mdqc_1.71.0.tar.gz /Library/Frameworks/R.framework/Resources/bin/R mdqc.buildbin-libdir StartedAt: 2025-07-02 01:04:51 -0400 (Wed, 02 Jul 2025) EndedAt: 2025-07-02 01:04:57 -0400 (Wed, 02 Jul 2025) EllapsedTime: 5.8 seconds RetCode: 0 Status: OK PackageFile: mdqc_1.71.0.tgz PackageFileSize: 296.2 KiB