Package: mdqc Version: 1.71.0 Command: /Library/Frameworks/R.framework/Resources/bin/R CMD INSTALL mdqc StartedAt: 2025-07-11 15:01:37 -0400 (Fri, 11 Jul 2025) EndedAt: 2025-07-11 15:01:40 -0400 (Fri, 11 Jul 2025) EllapsedTime: 3.7 seconds RetCode: 0 Status: OK