Package: mdqc Version: 1.71.0 Command: rm -rf mdqc.buildbin-libdir && mkdir mdqc.buildbin-libdir && /Users/biocbuild/BBS/utils/build-universal.sh mdqc_1.71.0.tar.gz /Library/Frameworks/R.framework/Resources/bin/R mdqc.buildbin-libdir StartedAt: 2025-07-11 22:25:15 -0400 (Fri, 11 Jul 2025) EndedAt: 2025-07-11 22:25:17 -0400 (Fri, 11 Jul 2025) EllapsedTime: 2.0 seconds RetCode: 0 Status: OK PackageFile: mdqc_1.71.0.tgz PackageFileSize: 297.4 KiB