Package: mdp Version: 1.29.0 Command: /home/biocbuild/R/R/bin/R CMD check --install=check:mdp.install-out.txt --library=/home/biocbuild/R/R/site-library --no-vignettes --timings mdp_1.29.0.tar.gz StartedAt: 2025-07-18 08:17:49 -0000 (Fri, 18 Jul 2025) EndedAt: 2025-07-18 08:19:07 -0000 (Fri, 18 Jul 2025) EllapsedTime: 78.1 seconds RetCode: 0 Status: OK CheckDir: mdp.Rcheck Warnings: 0