Package: mdp Version: 1.29.0 Command: F:\biocbuild\bbs-3.22-bioc\R\bin\R.exe CMD check --no-multiarch --install=check:mdp.install-out.txt --library=F:\biocbuild\bbs-3.22-bioc\R\library --no-vignettes --timings mdp_1.29.0.tar.gz StartedAt: 2025-07-22 03:44:54 -0400 (Tue, 22 Jul 2025) EndedAt: 2025-07-22 03:46:16 -0400 (Tue, 22 Jul 2025) EllapsedTime: 82.1 seconds RetCode: 0 Status: OK CheckDir: mdp.Rcheck Warnings: 0