Package: mdp Version: 1.29.0 Command: /Library/Frameworks/R.framework/Resources/bin/R CMD check --install=check:mdp.install-out.txt --library=/Library/Frameworks/R.framework/Resources/library --no-vignettes --timings mdp_1.29.0.tar.gz StartedAt: 2025-07-11 19:59:54 -0400 (Fri, 11 Jul 2025) EndedAt: 2025-07-11 20:00:19 -0400 (Fri, 11 Jul 2025) EllapsedTime: 25.3 seconds RetCode: 0 Status: OK CheckDir: mdp.Rcheck Warnings: 0