Package: mbkmeans Version: 1.25.0 Command: /home/biocbuild/R/R/bin/R CMD build --keep-empty-dirs --no-resave-data mbkmeans StartedAt: 2025-07-25 01:45:14 -0000 (Fri, 25 Jul 2025) EndedAt: 2025-07-25 01:47:22 -0000 (Fri, 25 Jul 2025) EllapsedTime: 128.1 seconds RetCode: 0 Status: OK PackageFile: mbkmeans_1.25.0.tar.gz PackageFileSize: 290 KiB