Package: mbkmeans Version: 1.25.0 Command: F:\biocbuild\bbs-3.22-bioc\R\bin\R.exe CMD INSTALL mbkmeans StartedAt: 2025-07-20 16:12:54 -0400 (Sun, 20 Jul 2025) EndedAt: 2025-07-20 16:13:31 -0400 (Sun, 20 Jul 2025) EllapsedTime: 36.4 seconds RetCode: 1 Status: ERROR