Package: mbkmeans Version: 1.25.0 Command: chmod a+r mbkmeans -R && F:\biocbuild\bbs-3.22-bioc\R\bin\R.exe CMD build --keep-empty-dirs --no-resave-data mbkmeans StartedAt: 2025-07-18 20:09:29 -0400 (Fri, 18 Jul 2025) EndedAt: 2025-07-18 20:10:03 -0400 (Fri, 18 Jul 2025) EllapsedTime: 34.4 seconds RetCode: 1 Status: ERROR PackageFile: None PackageFileSize: NA