Package: mbkmeans Version: 1.25.0 Command: /Library/Frameworks/R.framework/Resources/bin/R CMD build --keep-empty-dirs --no-resave-data mbkmeans StartedAt: 2025-07-01 16:47:18 -0400 (Tue, 01 Jul 2025) EndedAt: 2025-07-01 16:47:57 -0400 (Tue, 01 Jul 2025) EllapsedTime: 39.5 seconds RetCode: 0 Status: OK PackageFile: mbkmeans_1.25.0.tar.gz PackageFileSize: 267.5 KiB