Package: mbQTL Version: 1.9.0 Command: /home/biocbuild/R/R/bin/R CMD INSTALL mbQTL StartedAt: 2025-07-10 21:19:17 -0000 (Thu, 10 Jul 2025) EndedAt: 2025-07-10 21:19:29 -0000 (Thu, 10 Jul 2025) EllapsedTime: 12.6 seconds RetCode: 0 Status: OK