Package: mbQTL Version: 1.9.0 Command: /home/biocbuild/R/R/bin/R CMD build --keep-empty-dirs --no-resave-data mbQTL StartedAt: 2025-07-11 01:55:27 -0000 (Fri, 11 Jul 2025) EndedAt: 2025-07-11 01:57:05 -0000 (Fri, 11 Jul 2025) EllapsedTime: 98.0 seconds RetCode: 0 Status: OK PackageFile: mbQTL_1.9.0.tar.gz PackageFileSize: 926.4 KiB