Package: mbQTL Version: 1.9.0 Command: /Library/Frameworks/R.framework/Resources/bin/R CMD build --keep-empty-dirs --no-resave-data mbQTL StartedAt: 2025-07-03 16:47:54 -0400 (Thu, 03 Jul 2025) EndedAt: 2025-07-03 16:48:20 -0400 (Thu, 03 Jul 2025) EllapsedTime: 26.3 seconds RetCode: 0 Status: OK PackageFile: mbQTL_1.9.0.tar.gz PackageFileSize: 1.46 MiB