Package: matter Version: 2.11.1 Command: /home/biocbuild/R/R/bin/R CMD INSTALL matter StartedAt: 2025-07-24 21:12:13 -0000 (Thu, 24 Jul 2025) EndedAt: 2025-07-24 21:13:20 -0000 (Thu, 24 Jul 2025) EllapsedTime: 66.9 seconds RetCode: 0 Status: OK