Package: matter Version: 2.11.1 Command: /home/biocbuild/R/R/bin/R CMD build --keep-empty-dirs --no-resave-data matter StartedAt: 2025-07-25 01:44:13 -0000 (Fri, 25 Jul 2025) EndedAt: 2025-07-25 01:46:04 -0000 (Fri, 25 Jul 2025) EllapsedTime: 111.0 seconds RetCode: 0 Status: OK PackageFile: matter_2.11.1.tar.gz PackageFileSize: 1.916 MiB