Package: matter Version: 2.11.1 Command: F:\biocbuild\bbs-3.22-bioc\R\bin\R.exe CMD INSTALL matter StartedAt: 2025-07-24 15:43:03 -0400 (Thu, 24 Jul 2025) EndedAt: 2025-07-24 15:46:25 -0400 (Thu, 24 Jul 2025) EllapsedTime: 201.9 seconds RetCode: 0 Status: OK