Package: matter Version: 2.11.1 Command: chmod a+r matter -R && F:\biocbuild\bbs-3.22-bioc\R\bin\R.exe CMD build --keep-empty-dirs --no-resave-data matter StartedAt: 2025-07-24 20:19:14 -0400 (Thu, 24 Jul 2025) EndedAt: 2025-07-24 20:22:26 -0400 (Thu, 24 Jul 2025) EllapsedTime: 192.2 seconds RetCode: 0 Status: OK PackageFile: matter_2.11.1.tar.gz PackageFileSize: 1.408 MiB