Package: matter Version: 2.11.2 Command: /Library/Frameworks/R.framework/Resources/bin/R CMD INSTALL matter StartedAt: 2025-10-05 15:06:44 -0400 (Sun, 05 Oct 2025) EndedAt: 2025-10-05 15:06:58 -0400 (Sun, 05 Oct 2025) EllapsedTime: 13.6 seconds RetCode: 0 Status: OK