Package: matter Version: 2.11.2 Command: rm -rf matter.buildbin-libdir && mkdir matter.buildbin-libdir && /Users/biocbuild/BBS/utils/build-universal.sh matter_2.11.2.tar.gz /Library/Frameworks/R.framework/Resources/bin/R matter.buildbin-libdir StartedAt: 2025-10-03 22:44:47 -0400 (Fri, 03 Oct 2025) EndedAt: 2025-10-03 22:45:03 -0400 (Fri, 03 Oct 2025) EllapsedTime: 16.3 seconds RetCode: 0 Status: OK PackageFile: matter_2.11.2.tgz PackageFileSize: 4.969 MiB