Package: matchBox Version: 1.51.0 Command: /home/biocbuild/R/R/bin/R CMD check --install=check:matchBox.install-out.txt --library=/home/biocbuild/R/R/site-library --no-vignettes --timings matchBox_1.51.0.tar.gz StartedAt: 2025-07-11 09:41:53 -0000 (Fri, 11 Jul 2025) EndedAt: 2025-07-11 09:42:10 -0000 (Fri, 11 Jul 2025) EllapsedTime: 17.0 seconds RetCode: 0 Status: OK CheckDir: matchBox.Rcheck Warnings: 0