Package: matchBox Version: 1.51.0 Command: /home/biocbuild/R/R/bin/R CMD build --keep-empty-dirs --no-resave-data matchBox StartedAt: 2025-07-11 01:53:25 -0000 (Fri, 11 Jul 2025) EndedAt: 2025-07-11 01:53:32 -0000 (Fri, 11 Jul 2025) EllapsedTime: 7.0 seconds RetCode: 0 Status: OK PackageFile: matchBox_1.51.0.tar.gz PackageFileSize: 600.6 KiB