Package: matchBox Version: 1.51.0 Command: /home/biocbuild/bbs-3.22-bioc/R/bin/R CMD build --keep-empty-dirs --no-resave-data --md5 matchBox StartedAt: 2025-07-09 18:57:51 -0400 (Wed, 09 Jul 2025) EndedAt: 2025-07-09 18:57:58 -0400 (Wed, 09 Jul 2025) EllapsedTime: 7.0 seconds RetCode: 0 Status: OK PackageFile: matchBox_1.51.0.tar.gz PackageFileSize: 606 KiB