Package: matchBox Version: 1.51.0 Command: /Library/Frameworks/R.framework/Resources/bin/R CMD build --keep-empty-dirs --no-resave-data matchBox StartedAt: 2025-07-11 17:26:51 -0400 (Fri, 11 Jul 2025) EndedAt: 2025-07-11 17:27:03 -0400 (Fri, 11 Jul 2025) EllapsedTime: 12.6 seconds RetCode: 0 Status: OK PackageFile: matchBox_1.51.0.tar.gz PackageFileSize: 604 KiB