Package: matchBox Version: 1.51.0 Command: /Library/Frameworks/R.framework/Resources/bin/R CMD INSTALL matchBox StartedAt: 2025-07-16 15:01:25 -0400 (Wed, 16 Jul 2025) EndedAt: 2025-07-16 15:01:28 -0400 (Wed, 16 Jul 2025) EllapsedTime: 3.3 seconds RetCode: 0 Status: OK