Package: matchBox Version: 1.51.0 Command: rm -rf matchBox.buildbin-libdir && mkdir matchBox.buildbin-libdir && /Users/biocbuild/BBS/utils/build-universal.sh matchBox_1.51.0.tar.gz /Library/Frameworks/R.framework/Resources/bin/R matchBox.buildbin-libdir StartedAt: 2025-07-13 22:22:13 -0400 (Sun, 13 Jul 2025) EndedAt: 2025-07-13 22:22:15 -0400 (Sun, 13 Jul 2025) EllapsedTime: 2.0 seconds RetCode: 0 Status: OK PackageFile: matchBox_1.51.0.tgz PackageFileSize: 634.1 KiB